BEGIN:VCALENDAR
VERSION:2.0
PRODID:-//Positive Change Programmes - ECPv4.0//NONSGML v1.0//EN
CALSCALE:GREGORIAN
METHOD:PUBLISH
X-WR-CALNAME:Positive Change Programmes
X-ORIGINAL-URL:http://www.positivechanges.org.nz
X-WR-CALDESC:Events for Positive Change Programmes
BEGIN:VEVENT
DTSTART;TZID="":20180215T173000
DTEND;TZID="":20180503T193000
DTSTAMP:20180121T155430
CREATED:20161214T212010
LAST-MODIFIED:20171215T000248
UID:374-1518715800-1525375800@www.positivechanges.org.nz
SUMMARY:Anger Management Programme
DESCRIPTION: \n\nAnger Management Programme \n\nStarting 15th February 2018 \n\nThursdays 5.30-7.30pm\n\n12 sessions\n\nCost\n\nGroup: $340.00\n\nOne-on-ones $420\n\n  
URL:http://www.positivechanges.org.nz/event/anger-management-programme-3/
LOCATION: Unit 3/99 Greenwood Street\,\,  Hamilton \, New Zealand
CATEGORIES:Anger Management Programmes
END:VEVENT
BEGIN:VEVENT
DTSTART;TZID="":20180224T090000
DTEND;TZID="":20180225T150000
DTSTAMP:20180121T155430
CREATED:20161214T212701
LAST-MODIFIED:20171215T000717
UID:379-1519462800-1519570800@www.positivechanges.org.nz
SUMMARY:Conflict Resolution Weekend Workshop
DESCRIPTION:24th & 25th February\n\nCOST:$100 single\n\n           $170 couple
URL:http://www.positivechanges.org.nz/event/conflict-resolution-weekend-workshop-3/
LOCATION: Unit 3/99 Greenwood Street\,\,  Hamilton \, New Zealand
CATEGORIES:Conflict Resolution Programmes
END:VEVENT
BEGIN:VEVENT
DTSTART;TZID="":20180428T080000
DTEND;TZID="":20180429T170000
DTSTAMP:20180121T155430
CREATED:20171215T000743
LAST-MODIFIED:20171215T000743
UID:412-1524902400-1525021200@www.positivechanges.org.nz
SUMMARY:Conflict Resolution Weekend Workshop
DESCRIPTION:28th & 29th April\n\nCOST:$100 single\n\n           $170 couple
URL:http://www.positivechanges.org.nz/event/conflict-resolution-weekend-workshop/
LOCATION: Unit 3/99 Greenwood Street\,\,  Hamilton \, New Zealand
CATEGORIES:Conflict Resolution Programmes
END:VEVENT
BEGIN:VEVENT
DTSTART;TZID="":20180531T173000
DTEND;TZID="":20180816T193000
DTSTAMP:20180121T155430
CREATED:20171215T000417
LAST-MODIFIED:20171215T000417
UID:410-1527787800-1534447800@www.positivechanges.org.nz
SUMMARY:Anger Management Programme
DESCRIPTION:Anger Management Programme \n\nStarting 31st May 2018  - 16th August\n\nThursdays 5.30-7.30pm\n\n12 sessions\n\nCost\n\nGroup: $340.00\n\nOne-on-ones $420\n\n  
URL:http://www.positivechanges.org.nz/event/anger-management-programme/
CATEGORIES:Anger Management Programmes
END:VEVENT
BEGIN:VEVENT
DTSTART;TZID="":20180623T080000
DTEND;TZID="":20180624T170000
DTSTAMP:20180121T155430
CREATED:20171215T000836
LAST-MODIFIED:20171215T000836
UID:413-1529740800-1529859600@www.positivechanges.org.nz
SUMMARY:Conflict Resolution Weekend Workshop
DESCRIPTION:23rd & 24th June\n\nCOST:$100 single\n\n           $170 couple
URL:http://www.positivechanges.org.nz/event/conflict-resolution-weekend-workshop-2/
LOCATION: Unit 3/99 Greenwood Street\,\,  Hamilton \, New Zealand
CATEGORIES:Conflict Resolution Programmes
END:VEVENT
BEGIN:VEVENT
DTSTART;TZID="":20180825T080000
DTEND;TZID="":20180826T170000
DTSTAMP:20180121T155430
CREATED:20171215T000921
LAST-MODIFIED:20171215T001122
UID:414-1535184000-1535302800@www.positivechanges.org.nz
SUMMARY:Conflict Resolution Weekend Workshop
DESCRIPTION:25th & 26th August\n\nCOST:$100 single\n\n           $170 couple
URL:http://www.positivechanges.org.nz/event/23rd-24th-june/
LOCATION: Unit 3/99 Greenwood Street\,\,  Hamilton \, New Zealand
CATEGORIES:Conflict Resolution Programmes
END:VEVENT
BEGIN:VEVENT
DTSTART;TZID="":20180913T173000
DTEND;TZID="":20181129T193000
DTSTAMP:20180121T155430
CREATED:20171215T000545
LAST-MODIFIED:20171215T000545
UID:411-1536859800-1543519800@www.positivechanges.org.nz
SUMMARY:Anger Management Programme
DESCRIPTION:Anger Management Programme \n\n13th September to 29th November\n\nThursdays 5.30-7.30pm\n\n12 sessions\n\nCost\n\nGroup: $340.00\n\nOne-on-ones $420\n\n  
URL:http://www.positivechanges.org.nz/event/anger-management-programme-2/
LOCATION: Unit 3/99 Greenwood Street\,\,  Hamilton \, New Zealand
CATEGORIES:Anger Management Programmes
END:VEVENT
BEGIN:VEVENT
DTSTART;TZID="":20181013T080000
DTEND;TZID="":20181014T170000
DTSTAMP:20180121T155430
CREATED:20171215T000957
LAST-MODIFIED:20171215T000957
UID:415-1539417600-1539536400@www.positivechanges.org.nz
SUMMARY:Conflict Resolution Weekend Workshop
DESCRIPTION:13th & 14th October\n\nCOST:$100 single\n\n           $170 couple
URL:http://www.positivechanges.org.nz/event/conflict-resolution-weekend-workshop-5/
LOCATION: Unit 3/99 Greenwood Street\,\,  Hamilton \, New Zealand
CATEGORIES:Conflict Resolution Programmes
END:VEVENT
BEGIN:VEVENT
DTSTART;TZID="":20181208T080000
DTEND;TZID="":20181209T170000
DTSTAMP:20180121T155430
CREATED:20171215T001035
LAST-MODIFIED:20171215T001035
UID:416-1544256000-1544374800@www.positivechanges.org.nz
SUMMARY:Conflict Resolution Weekend Workshop
DESCRIPTION:8th & 9th December\n\nCOST:$100 single\n\n           $170 couple
URL:http://www.positivechanges.org.nz/event/conflict-resolution-weekend-workshop-6/
LOCATION: Unit 3/99 Greenwood Street\,\,  Hamilton \, New Zealand
CATEGORIES:Conflict Resolution Programmes
END:VEVENT
END:VCALENDAR