BEGIN:VCALENDAR
VERSION:2.0
PRODID:-//Positive Change Programmes - ECPv4.0//NONSGML v1.0//EN
CALSCALE:GREGORIAN
METHOD:PUBLISH
X-WR-CALNAME:Positive Change Programmes
X-ORIGINAL-URL:http://www.positivechanges.org.nz
X-WR-CALDESC:Events for Positive Change Programmes
BEGIN:VEVENT
DTSTART;TZID="":20260302T173000
DTEND;TZID="":20261130T190000
DTSTAMP:20260423T153957
CREATED:20250119T215356
LAST-MODIFIED:20251221T234546
UID:710-1772472600-1796065200@www.positivechanges.org.nz
SUMMARY:Group Programmes
DESCRIPTION:Group Programmes:\n\nDepends on numbers to when we deliver these groups\, please contact the office\n\nWednesday Nights\n\n5.30-7pm\, 10 weeks delivering 12 sessions.\n\nCost $600 per group\n\n 
URL:http://www.positivechanges.org.nz/event/group-programmes/
END:VEVENT
END:VCALENDAR