BEGIN:VCALENDAR
VERSION:2.0
PRODID:-//Positive Change Programmes - ECPv4.0//NONSGML v1.0//EN
CALSCALE:GREGORIAN
METHOD:PUBLISH
X-WR-CALNAME:Positive Change Programmes
X-ORIGINAL-URL:http://www.positivechanges.org.nz
X-WR-CALDESC:Events for Positive Change Programmes
BEGIN:VEVENT
DTSTART;TZID="":20260106T080000
DTEND;TZID="":20260106T170000
DTSTAMP:20260423T171940
CREATED:20231117T205546
LAST-MODIFIED:20251221T235309
UID:647-1767686400-1767718800@www.positivechanges.org.nz
SUMMARY:Cancellation Policy/Missed sessions
DESCRIPTION:Please note:\n\n1 Day Workshops\n\nCancellation or no show within 24 hrs participants will still need to pay full price.\n\nAnger Management/Life Skills programme\n\nsessions missed will not be caught up at end\, its a missed session.\n\n 
URL:http://www.positivechanges.org.nz/event/cancellation-policy-missed-sessions/
END:VEVENT
END:VCALENDAR