BEGIN:VCALENDAR
VERSION:2.0
PRODID:-//Positive Change Programmes - ECPv4.0//NONSGML v1.0//EN
CALSCALE:GREGORIAN
METHOD:PUBLISH
X-WR-CALNAME:Positive Change Programmes
X-ORIGINAL-URL:http://www.positivechanges.org.nz
X-WR-CALDESC:Events for Positive Change Programmes
BEGIN:VEVENT
DTSTART;TZID="":20260106T090000
DTEND;TZID="":20261209T160000
DTSTAMP:20260423T154351
CREATED:20200108T232553
LAST-MODIFIED:20251221T234650
UID:476-1767690000-1796832000@www.positivechanges.org.nz
SUMMARY:Anger Management /Life Skills programme  ( 1 on 1 )
DESCRIPTION:Anger Management/Life Skills -  one on ones\n\nAvailable for YOUTH and ADULTS\n\nThis is delivered  as one one one sessions with a trained facilitator\, through out the day and year\, you can start anytime.\n\nDelivered over 8-9 sessions\, 3/4 - 1  hour duration at our offices in Greenwood St.\n\nCost: $745 over 18 yrs\n\n$875 under 18 yrs.\n\nPlease contact our office to arrange further
URL:http://www.positivechanges.org.nz/event/anger-management-life-skills-programme-1-on-1/
END:VEVENT
END:VCALENDAR